BEGIN:VCALENDAR
VERSION:2.0
PRODID:-//Disciples München-Haar e.V. - ECPv6.15.20//NONSGML v1.0//EN
CALSCALE:GREGORIAN
METHOD:PUBLISH
X-ORIGINAL-URL:https://disciples.de
X-WR-CALDESC:Veranstaltungen für Disciples München-Haar e.V.
REFRESH-INTERVAL;VALUE=DURATION:PT1H
X-Robots-Tag:noindex
X-PUBLISHED-TTL:PT1H
BEGIN:VTIMEZONE
TZID:UTC
BEGIN:STANDARD
TZOFFSETFROM:+0000
TZOFFSETTO:+0000
TZNAME:UTC
DTSTART:20240101T000000
END:STANDARD
END:VTIMEZONE
BEGIN:VEVENT
DTSTART;TZID=UTC:20251213T140000
DTEND;TZID=UTC:20251213T220000
DTSTAMP:20260425T010722
CREATED:20251201T083410Z
LAST-MODIFIED:20251201T083410Z
UID:2492-1765634400-1765663200@disciples.de
SUMMARY:Weihnachtsmarkt
DESCRIPTION:Am 13. Dezember wird’s gemütlich bei uns am Platz. Die Schläger bleiben daheim. Die Glühweintassen nicht. \nVon 14 bis 22 Uhr gibt’s einen kleinen Weihnachtsmarkt. Offen für alle. Für Leute aus Haar. Für Neugierige. Für jeden\, der Lust auf warme Getränke\, gutes Essen und ein bisschen Gemeinschaft hat. \nUns geht’s vor allem darum\, zu zeigen\, wer wir sind. Ein Verein\, der gern Zeit miteinander verbringt. Der offen ist. Der Menschen zusammenbringt\, auch wenn’s draußen kalt ist. Genau das macht den Tag besonders. \nWir freuen uns auf dich! Ein Weihnachtsmarkt lebt davon\, dass Leute kommen. Dass Gesichter auftauchen\, die man kennt. Und Gesichter\, die man vielleicht zum ersten Mal sieht. Bring gern Familie\, Freunde oder Nachbarn mit. Je mehr Menschen vorbeischauen\, desto schöner wird die Stimmung 😊 \nWir freuen uns mega auf euch.\nJingle balls & Merry Christmas!
URL:https://disciples.de/eventcal/weihnachtsmarkt/
LOCATION:Disciples Ballpark\, Richard-Reitzner-Allee\, Haar\, 85540\, Germany
CATEGORIES:DBL
ATTACH;FMTTYPE=image/jpeg:https://disciples.de/wp-content/uploads/2025/12/Weihnachtsmarkt2025.jpg
ORGANIZER;CN="Disciples M%C3%BCnchen-Haar e.V. Baseball- und%C2%A0Softballclub":MAILTO:info@disciples.de
END:VEVENT
END:VCALENDAR