BEGIN:VCALENDAR
VERSION:2.0
PRODID:-//Disciples München-Haar e.V. - ECPv6.15.20//NONSGML v1.0//EN
CALSCALE:GREGORIAN
METHOD:PUBLISH
X-ORIGINAL-URL:https://disciples.de
X-WR-CALDESC:Veranstaltungen für Disciples München-Haar e.V.
REFRESH-INTERVAL;VALUE=DURATION:PT1H
X-Robots-Tag:noindex
X-PUBLISHED-TTL:PT1H
BEGIN:VTIMEZONE
TZID:UTC
BEGIN:STANDARD
TZOFFSETFROM:+0000
TZOFFSETTO:+0000
TZNAME:UTC
DTSTART:20250101T000000
END:STANDARD
END:VTIMEZONE
BEGIN:VEVENT
DTSTART;VALUE=DATE:20260219
DTEND;VALUE=DATE:20260221
DTSTAMP:20260423T090814
CREATED:20260123T100234Z
LAST-MODIFIED:20260123T100349Z
UID:2621-1771459200-1771631999@disciples.de
SUMMARY:BASEBALL & ENGLISH CAMP 2026
DESCRIPTION:﻿BASEBALL & ENGLISH CAMP \nAlle Infos und Buchung geht es hier:\nBASEBALL & ENGLISH CAMP Infos & Anmeldung \nFür alle Kids der Grundschule (1.-4. Klasse)\n19. und 20.02.2026\, 09:00 – 15:00 Uhr\nIndoor und Outdoor (wenn möglich)
URL:https://disciples.de/eventcal/baseball-and-englisch-baseballcamp/
LOCATION:Racketpark\, Höglweg 3\, Haar\, 85540\, Germany
CATEGORIES:Verein
ATTACH;FMTTYPE=image/jpeg:https://disciples.de/wp-content/uploads/2025/04/softball-u16.jpg
END:VEVENT
END:VCALENDAR